BEGIN:VCALENDAR
VERSION:2.0
PRODID:-//ChamberMaster//Event Calendar 2.0//EN
METHOD:PUBLISH
X-PUBLISHED-TTL:P3D
REFRESH-INTERVAL:P3D
CALSCALE:GREGORIAN
BEGIN:VEVENT
DTSTART:20230404T130000Z
DTEND:20230404T160000Z
X-MICROSOFT-CDO-ALLDAYEVENT:FALSE
SUMMARY:Supervisor Development Certificate Program 2023 - Helping Employees Achieve Peak Performance
DESCRIPTION:During this course you will learn how to write employee performance expectations and how to tie job descriptions and performance to staff evaluations. In addition\, we will discuss motivating employees and correcting poor performance.\n\n\n\nSpeaker: Rachel Granzow\, Visit Greater St. Cloud\n\n\n\nWith questions\, contact Laura Wagner at LWagner@StCloudAreaChamber.com or \n\n320-656-3831. Please also provide the attendee's email address and direct phone number\, so they can be contacted directly with any class-related information.
X-ALT-DESC;FMTTYPE=text/html:<div style="FONT-FAMILY: Arial">\n<p class="MsoNormal" style="MARGIN: 0pt"><span style="font-size:16px\;">During this course you will learn how to write employee performance expectations and how to tie job descriptions and performance to staff evaluations. In addition\, we will discuss motivating employees and correcting poor performance.<br />\n<br />\n<strong>Speaker: Rachel Granzow\, Visit Greater St. Cloud</strong><br />\n<br />\n<span style="color:black\;"><span style="font-family:arial\,sans-serif\;"><strong>With questions\,&nbsp\;contact Laura Wagner&nbsp\;at <a href="mailto:lwagner@stcloudareachamber.com">LWagner@StCloudAreaChamber.com</a>&nbsp\;or&nbsp\;<br />\n320-656-3831</strong>. Please also provide&nbsp\;the attendee&#39\;s email address and direct phone number\, so they can be contacted directly with any class-related information.</span></span></span></p>\n</div>\n
LOCATION:
UID:e.2754.10232
SEQUENCE:3
DTSTAMP:20260422T041951Z
URL:http://stcloudareachambermn.chambermaster.com/events/details/supervisor-development-certificate-program-2023-helping-employees-achieve-peak-performance-10232
END:VEVENT

END:VCALENDAR
